BEGIN:VCALENDAR
VERSION:2.0
CALSCALE:GREGORIAN
METHOD:PUBLISH
PRODID://NPA//459614
BEGIN:VEVENT
DTSTAMP:20260423T060640
VTIMEZONE:America/New_York
DTSTART:20251210T000000Z
DTEND:20251210T020000Z
UID:459614
SUMMARY:Monthly Board Meeting
LOCATION:MemberLeap Cafe, 209 S. Bridge St., Grand Ledge, MI, 48837
DESCRIPTION:Monthly Board Meeting\n\n12/09/25 07:00 PM EST\n - 12/09/25 09:00 PM EST\Description:\nOur amazing and dedicated board members meet monthly and are committed to supporting our organization's mission to educate, support, and advocate for professionals in the pastry industry.\Location:\nMemberLeap Cafe\n209 S. Bridge St.\nGrand Ledge, MI 48837
X-ALT-DESC;FMTTYPE=text/html:Monthly Board Meeting<br /><br />12/09/25 07:00 PM EST - 12/09/25 09:00 PM EST<br />Description:<br />Our amazing and dedicated board members meet monthly and are committed to supporting our organization's mission to educate, support, and advocate for professionals in the pastry industry.<br />Location:<br />MemberLeap Cafe<br />209 S. Bridge St.<br />Grand Ledge, MI 48837
PRIORITY:3
TRANSP:TRANSPARENT
BEGIN:VALARM
TRIGGER:-PT5M
ACTION:DISPLAY
DESCRIPTION:Reminder
END:VALARM
END:VEVENT
END:VCALENDAR
