BEGIN:VCALENDAR
VERSION:2.0
CALSCALE:GREGORIAN
METHOD:PUBLISH
PRODID://NPA//486154
BEGIN:VEVENT
DTSTAMP:20260423T060607
VTIMEZONE:America/New_York
DTSTART:20260210T160000Z
DTEND:20260210T170000Z
UID:486154
SUMMARY:Moms, Mugs, & Mini Donuts
LOCATION:Good Day Cafe Irving, 2301 N O'Connor Rd, Irving, TX, 75062
DESCRIPTION:Moms, Mugs, & Mini Donuts\n\n02/10/26 11:00 AM EST\n - 02/10/26 12:00 PM EST\Description:\nJoin us on the 1st Tuesday of each month at Good Day Cafe Irving to get resources and network with each other\Location:\nGood Day Cafe Irving\n2301 N O'Connor Rd\nIrving, TX 75062
X-ALT-DESC;FMTTYPE=text/html:Moms, Mugs, & Mini Donuts<br /><br />02/10/26 11:00 AM EST - 02/10/26 12:00 PM EST<br />Description:<br />Join us on the 1st Tuesday of each month at Good Day Cafe Irving to get resources and network with each other<br />Location:<br />Good Day Cafe Irving<br />2301 N O'Connor Rd<br />Irving, TX 75062
PRIORITY:3
TRANSP:TRANSPARENT
BEGIN:VALARM
TRIGGER:-PT5M
ACTION:DISPLAY
DESCRIPTION:Reminder
END:VALARM
END:VEVENT
END:VCALENDAR
