BEGIN:VCALENDAR
VERSION:2.0
CALSCALE:GREGORIAN
METHOD:PUBLISH
PRODID://NPA//486159
BEGIN:VEVENT
DTSTAMP:20260423T060709
VTIMEZONE:America/New_York
DTSTART:20260221T000000Z
DTEND:20260221T020000Z
UID:486159
SUMMARY:Moms & Movies
LOCATION:AMC Irving Mall 14, 2433 Irving Mall, Irving, TX, 75062
DESCRIPTION:Moms & Movies\n\n02/20/26 07:00 PM EST\n - 02/20/26 09:00 PM EST\Description:\nCome join us! Settle in, grab some popcorn, and enjoy a cozy movie night together.\Details:\nRelationship Goals - PG-13 - Story centers on finding lasting love and sustaining a healthy relationship.\Location:\nAMC Irving Mall 14\n2433 Irving Mall\nIrving, TX 75062
X-ALT-DESC;FMTTYPE=text/html:Moms & Movies<br /><br />02/20/26 07:00 PM EST - 02/20/26 09:00 PM EST<br />Description:<br /><!--StartFragment -->Come join us! Settle in, grab some popcorn, and enjoy a cozy movie night together.<!--EndFragment --><br />Details:<br />Relationship Goals - PG-13 -&nbsp;Story centers on finding lasting love and sustaining a healthy relationship.<br />Location:<br />AMC Irving Mall 14<br />2433 Irving Mall<br />Irving, TX 75062
PRIORITY:3
TRANSP:TRANSPARENT
BEGIN:VALARM
TRIGGER:-PT5M
ACTION:DISPLAY
DESCRIPTION:Reminder
END:VALARM
END:VEVENT
END:VCALENDAR
